BEGIN:VCALENDAR
VERSION:2.0
PRODID:-//ExpressionEngine Easy iCalendar plugin//NONSGML v2.0.1//EN
X-WR-TIMEZONE:America/Chicago
X-WR-CALNAME:Upcoming Auctions
BEGIN:VEVENT
UID:161089
DTSTAMP:20260424T165500
DTSTART:20260424T165500
DTEND:20260510T190000
SUMMARY:R.E.CYCLERS: SHEEHAN ESTATE ONLINE AUCTION
LOCATION:1220 GAIL ROAD SW\, PINE RIVER\, MN 56474\, US
DESCRIPTION:THIS AUCTION FEATURES A LIFETIME SUPPLY OF BREWIANNA SIGNS!Â
   DON'T MISS THIS AUCTION!
URL:https://www.do-bid.com/auctions/detail/bw161089
SEQUENCE:1
END:VEVENT
END:VCALENDAR