BEGIN:VCALENDAR
VERSION:2.0
PRODID:-//ExpressionEngine Easy iCalendar plugin//NONSGML v2.0.1//EN
X-WR-TIMEZONE:America/Chicago
X-WR-CALNAME:Upcoming Auctions
BEGIN:VEVENT
UID:160858
DTSTAMP:20260423T090000
DTSTART:20260423T090000
DTEND:20260511T190000
SUMMARY:EICHORN'S MINI-STORAGE UNIT - DO-BID.COM ONLINE AUCTION
LOCATION:8506 PARK RIDGE DRIVE\, MT. IRON\, MN 55768\, US
DESCRIPTION:THIS STORAGE UNIT FEATURES A POWER RECLINE SECTIONAL\, FIREPL
 ACE TV STAND\, 75" TELEVISION\, HOVER BOARDS\, AND MORE.
URL:https://www.do-bid.com/auctions/detail/bw160858
SEQUENCE:1
END:VEVENT
END:VCALENDAR