BEGIN:VCALENDAR
VERSION:2.0
PRODID:-//ExpressionEngine Easy iCalendar plugin//NONSGML v2.0.1//EN
X-WR-TIMEZONE:America/Chicago
X-WR-CALNAME:Upcoming Auctions
BEGIN:VEVENT
UID:160153
DTSTAMP:20260423T115000
DTSTART:20260423T115000
DTEND:20260505T190000
SUMMARY:SPRING BUILDING SUPPLIES - BUHL DO-BID.COM ONLINE AUCTION
LOCATION:703 SEVILLE AVE\, BUHL\, MN 55713\, US
DESCRIPTION:THIS AUCTION INCLUDES AN ASSORTMENT OF NEW DOORS\, WINDOWS\, M
 ISCELLANEOUS SIDING\, AND OTHER BUILDING SUPPLIES\, A 2010 SUN
 SET CREEK 31 FT. PULL-BEHIND CAMPER\, CRAFTSMAN ZERO TURN MOW
 ER\, AND MORE
URL:https://www.do-bid.com/auctions/detail/bw160153
SEQUENCE:1
END:VEVENT
END:VCALENDAR